BEGIN:VCALENDAR
VERSION:2.0
PRODID:-//ClimaCheck - ECPv6.15.11//NONSGML v1.0//EN
CALSCALE:GREGORIAN
METHOD:PUBLISH
X-WR-CALNAME:ClimaCheck
X-ORIGINAL-URL:https://home.climacheck.com
X-WR-CALDESC:Events for ClimaCheck
REFRESH-INTERVAL;VALUE=DURATION:PT1H
X-Robots-Tag:noindex
X-PUBLISHED-TTL:PT1H
BEGIN:VTIMEZONE
TZID:Europe/Stockholm
BEGIN:DAYLIGHT
TZOFFSETFROM:+0100
TZOFFSETTO:+0200
TZNAME:CEST
DTSTART:20210328T010000
END:DAYLIGHT
BEGIN:STANDARD
TZOFFSETFROM:+0200
TZOFFSETTO:+0100
TZNAME:CET
DTSTART:20211031T010000
END:STANDARD
BEGIN:DAYLIGHT
TZOFFSETFROM:+0100
TZOFFSETTO:+0200
TZNAME:CEST
DTSTART:20220327T010000
END:DAYLIGHT
BEGIN:STANDARD
TZOFFSETFROM:+0200
TZOFFSETTO:+0100
TZNAME:CET
DTSTART:20221030T010000
END:STANDARD
BEGIN:DAYLIGHT
TZOFFSETFROM:+0100
TZOFFSETTO:+0200
TZNAME:CEST
DTSTART:20230326T010000
END:DAYLIGHT
BEGIN:STANDARD
TZOFFSETFROM:+0200
TZOFFSETTO:+0100
TZNAME:CET
DTSTART:20231029T010000
END:STANDARD
BEGIN:DAYLIGHT
TZOFFSETFROM:+0100
TZOFFSETTO:+0200
TZNAME:CEST
DTSTART:20240331T010000
END:DAYLIGHT
BEGIN:STANDARD
TZOFFSETFROM:+0200
TZOFFSETTO:+0100
TZNAME:CET
DTSTART:20241027T010000
END:STANDARD
BEGIN:DAYLIGHT
TZOFFSETFROM:+0100
TZOFFSETTO:+0200
TZNAME:CEST
DTSTART:20250330T010000
END:DAYLIGHT
BEGIN:STANDARD
TZOFFSETFROM:+0200
TZOFFSETTO:+0100
TZNAME:CET
DTSTART:20251026T010000
END:STANDARD
END:VTIMEZONE
BEGIN:VEVENT
DTSTART;TZID=Europe/Stockholm:20241010T112000
DTEND;TZID=Europe/Stockholm:20241010T112000
DTSTAMP:20260426T021549
CREATED:20240912T074940Z
LAST-MODIFIED:20240926T073731Z
UID:10033-1728559200-1728559200@home.climacheck.com
SUMMARY:Machine Learning drives Automated Fault Detection and Diagnostics and predictive maintenance
DESCRIPTION:An opportunity to listen to Klas\, one of ClimaChecks founders and hear the absolute latest in performance analysis and predictive maintenance. During the presentation\, klas will share experiences of using Machine Learning (ML) for Automated Fault Detection and Diagnosis (AFDD) that reduce total cost of ownership and down-time. \nHe will also present how digital twins based on Machine Learning (ML) will make the Air Conditioning\, Refrigeration and Heat Pump systems more reliable and efficient. \nMore information\nDigital twins based on Machine Learning (ML) will change maintenance practices in the air conditioning\, refrigeration and Heat Pump industry. Our industry uses 20 % of the global electricity and pressure to reduce the carbon footprint and total cost of ownership is increasing. Experience shows that an average saving potential of 25 % is realistic without replacing equipment. \nDigital Twins are powerful tools for AFDD \nThe presentation highlights the potential and experience of using ML to increase accuracy and reduce engineering time for Automated Fault Detection and Diagnosis (AFDD). ML will also be used in BMS systems to reduce loads and optimise controls\, but focus is on AFDD. \nML will drive the paradigm shift to Predictive Maintenance (PdM) as it reduces time required and reduce false warnings. Competent staff to optimise hundreds of millions of systems\, without advanced automation\, will not be available. To collect and analyse performance data over varying operation conditions is cost-effective but rarely a part of contracts as savings cannot be guaranteed before baseline is established. The solution will not be to train hundreds of thousands of technicians to become analysts. Analyst competence will be focused to centers that generate workorders for large numbers of sites when AFDD raise “Early Warnings” for performance drift. \nPerformance monitoring with AFDD using ML models increase accuracy and decrease cost. Most sensors are standard in installations since many years. It is a question of specifying what data should be collected\, at what interval\, and ensure that data is made into actionable information. International Energy Agency (IEA)\, Annex 52\, compiled a comprehensive guideline for data collection for Ground Source systems that with slight adaptations is applicable for all systems. Emerging standards such as e.g. “Real Estate Core” establish good practice which streamline and decrease cost for secure data management. \nDigital twins presented are developed on component level – compressor\, condenser and evaporator as well as for all KPIs important for maintenance and in-direct leak detection. A database containing detailed field performance data from thousands of systems in all sectors has been used to train and verify ML models. Experience show that ML is extremely powerful to detect any “performance-drift” with higher accuracy and less engineering time than with traditional rule-based limits. \nMeet us at chillventa\nYou can visit us at Chillventa in Hall 9 / Booth Number 9-336. If you plan to visit\, contact us so we can book a slot to sit down!
URL:https://home.climacheck.com/event/machine-learning-drives-automated-fault-detection-and-diagnostics-and-predictive-maintenance/
LOCATION:NürnbergMesse GmbH\, Germany
ATTACH;FMTTYPE=image/jpeg:https://home.climacheck.com/wp-content/uploads/2022/08/Chillventa-Logo-RGB-72dpi.jpg
END:VEVENT
BEGIN:VEVENT
DTSTART;TZID=Europe/Stockholm:20241008T080000
DTEND;TZID=Europe/Stockholm:20241010T170000
DTSTAMP:20260426T021549
CREATED:20231219T093801Z
LAST-MODIFIED:20240119T123731Z
UID:9685-1728374400-1728579600@home.climacheck.com
SUMMARY:Chillventa 2024
DESCRIPTION:Specialists from the refrigeration\, AC & ventilation\, architects and building services planners meet at Chillventa\, the international exhibition for the Refrigeration – AC & Ventilation – Heat Pumps sector. \n  \nClimaCheck will be in Hall 9 / Booth Number 9-336
URL:https://home.climacheck.com/event/chillventa-2024/
LOCATION:NürnbergMesse GmbH\, Germany
ATTACH;FMTTYPE=image/svg+xml:https://home.climacheck.com/wp-content/uploads/2022/06/Chillventa-Header.svg
END:VEVENT
BEGIN:VEVENT
DTSTART;TZID=Europe/Stockholm:20240418T080000
DTEND;TZID=Europe/Stockholm:20240419T170000
DTSTAMP:20260426T021549
CREATED:20231108T105321Z
LAST-MODIFIED:20240119T124342Z
UID:9608-1713427200-1713546000@home.climacheck.com
SUMMARY:ClimaCheck International Training 2024
DESCRIPTION:Welcome to ClimaCheck’s International Training 2024!\nEnergy efficiency\, Optimisation\, Automated fault detection and diagnostic (AFDD)\, Refrigerants\, Predictive maintenance\, Solution as a Service\, Internet of Things (IoT)\, Industry 4.0 are all factors that affect the HVACR industry. By not adapting and offer services based on these factors\, companies’ risk to be left behind\, and this has been seen many times before\, e.g.\, Kodak\, Nokia. \nDo not miss this opportunity to meet experts from all over the world. \nDate: 18-19 April 2024 (book the date!)\nRegister by emailing us at: Training@ClimaCheck.com (last day to register is 5th of march)\nVenue: TBA The training will be held in Stockholm.\nPrice: 560€ excl vat ( + 135 € VAT) (6500sek+moms)\nEarly bird price: 510€ excl vat (+ 125 € vat ) (5900sek+moms)\nRegistered before the 10th of January 2024\, you get the early bird price.\nA minimum number of participants is required to run the training. \nRead more here.
URL:https://home.climacheck.com/event/climacheck-international-training-2024/
CATEGORIES:Level 1 Workshop English,Level 2 English
ATTACH;FMTTYPE=image/webp:https://home.climacheck.com/wp-content/uploads/2022/12/lh-ute-flygfoto-anlg1-960x451-1.webp
END:VEVENT
BEGIN:VEVENT
DTSTART;TZID=Europe/Stockholm:20240307T080000
DTEND;TZID=Europe/Stockholm:20240307T100000
DTSTAMP:20260426T021549
CREATED:20231221T094419Z
LAST-MODIFIED:20240209T074343Z
UID:9693-1709798400-1709805600@home.climacheck.com
SUMMARY:Frukostseminarium – Energieffektiv drift med ClimaCheck
DESCRIPTION:Förväntningar och krav på mätning och uppföljning ökar i ett tempo som kan vara svårt att hänga med i! \nDen 7 mars från kl. 08:00 till 10:00 anordnar vi ett frukostseminarium med fokus på energieffektivitet och att driftsäkerhet säkerställs i kyl- och värmepumpanläggningar! Dessa system står ofta för 40–60% av byggnaders elförbrukning\, och vi ser ofta en besparingspotential på 10–30%! Så det är viktigt att inte ta dem för givet! Så det är viktigt att inte ta effektiviteten för givet då dessa system är kritiska investeringar\, som ska fungera i många år! \nClimaCheck är världsledande inom prestandaanalys och feldetektering. Tiotusentals mätningar visar att det finns ett stort behov av att optimera kyl- och värmepumpanläggningar. För att uppnå energieffektiv drift måste driftsättning och övervakning av kylmaskiner och värmepumpar förbättras genom tydliga krav vid upphandling. \nUnder seminariet kommer vi\, och utvalda gästföreläsare dela med sig av erfarenheter och visa hur fastighetsägare kan säkerställa att kylmaskiner och värmepumpar arbetar energi- och kostnadseffektivt under hela livstiden – vilket de sällan gör idag. \nGästföreläsare:\n\nFastighetsägare – Vasakronan  har sedan flera år systematiskt implementerar ClimaCheck. Idag jobbar de strukturerat med optimering av kylmaskiner och värmepumpar för att reducera antalet driftstopp och haverier.\nAggregattillverkare – Enrad tillverkare av aggregat med kolväten som köldmedium. Enrad har länge använt ClimaCheck i sina test och produktionsriggar och har nu tagit steget att göra deras aggregat ”ClimaCheck ready” vilket innebär att alla aggregat levereras färdiga från fabrik för att kopplas upp mot ClimaCheck.\nServiceorganisation med övervakningsplattform – Caverion har kopplat ihop sin plattform iTOP med ClimaCheck och erbjuder kunderna kvalificerade tjänster för optimering och driftsäkerhet baserad på ClimaCheck analys.\n\nDu kan anmäla dig i formulären nedan. \nBegränsat antal platser:\n\n \nVar: Atlas Copcos provgruva i Sickla\, Nacka. \nNär: 7 mars \nTid: 08:00 – 10:00\, vi kommer finnas kvar i lokalen efteråt\, för ytterligare diskussion. \nVi syns den 7e! \n 
URL:https://home.climacheck.com/event/frukostseminarium_gruvan_mars/
LOCATION:Gruvan\, Sickla industriväg 19\, Stockholm\, Nacka\, 13134\, Sweden
ATTACH;FMTTYPE=image/jpeg:https://home.climacheck.com/wp-content/uploads/2017/06/20170613_085855-1024x599-1.jpg
END:VEVENT
BEGIN:VEVENT
DTSTART;TZID=Europe/Stockholm:20240220T080000
DTEND;TZID=Europe/Stockholm:20240222T170000
DTSTAMP:20260426T021549
CREATED:20231219T100809Z
LAST-MODIFIED:20231219T100809Z
UID:9687-1708416000-1708621200@home.climacheck.com
SUMMARY:E-World
DESCRIPTION:
URL:https://home.climacheck.com/event/e-world/
LOCATION:Essen\, Messepl. 1\, 45131\, Essen\, Germany
ATTACH;FMTTYPE=image/webp:https://home.climacheck.com/wp-content/uploads/2024/03/post-placeholder.webp
END:VEVENT
BEGIN:VEVENT
DTSTART;TZID=Europe/Stockholm:20231214T090000
DTEND;TZID=Europe/Stockholm:20231214T160000
DTSTAMP:20260426T021549
CREATED:20221103T084550Z
LAST-MODIFIED:20221103T145812Z
UID:9182-1702544400-1702569600@home.climacheck.com
SUMMARY:ClimaCheck Level 1 Swedish
DESCRIPTION:Mer information om level ett träningen återfinns här:  ClimaCheck level 1 \nFör frågor eller registrering till träningen kontakta Training@ClimaCheck.com
URL:https://home.climacheck.com/event/climacheck-level-1-swedish-5/
CATEGORIES:Level 1 Swedish
ATTACH;FMTTYPE=image/jpeg:https://home.climacheck.com/wp-content/uploads/2019/07/ClimaCheck_LogoWEB2019-1024x132-1.jpg
END:VEVENT
BEGIN:VEVENT
DTSTART;TZID=Europe/Stockholm:20231207T090000
DTEND;TZID=Europe/Stockholm:20231207T110000
DTSTAMP:20260426T021549
CREATED:20221103T083323Z
LAST-MODIFIED:20221103T145720Z
UID:9167-1701939600-1701946800@home.climacheck.com
SUMMARY:ClimaCheck Training – Level 1 Workshop En.
DESCRIPTION:The workshop is a part of the level 1 online training. \nStart the training by emailing Training@ClimaCheck.com
URL:https://home.climacheck.com/event/climacheck-training-level-1-workshop-en-9/
CATEGORIES:Level 1 Workshop English
ATTACH;FMTTYPE=image/jpeg:https://home.climacheck.com/wp-content/uploads/2019/07/ClimaCheck_LogoWEB2019-1024x132-1.jpg
END:VEVENT
BEGIN:VEVENT
DTSTART;TZID=Europe/Stockholm:20231123T090000
DTEND;TZID=Europe/Stockholm:20231123T160000
DTSTAMP:20260426T021549
CREATED:20221103T091444Z
LAST-MODIFIED:20221103T094550Z
UID:9203-1700730000-1700755200@home.climacheck.com
SUMMARY:ClimaCheck Level 2 Training - Swedish
DESCRIPTION:Mer information om ClimaChecks level 2 träning finns här. \nMejla Training@ClimaCheck.com om du har frågor eller vill anmäla dig till träningen
URL:https://home.climacheck.com/event/climacheck-level-2-training-swedish-3/
CATEGORIES:Level 2 Swedish
ATTACH;FMTTYPE=image/jpeg:https://home.climacheck.com/wp-content/uploads/2019/07/ClimaCheck_LogoWEB2019-1024x132-1.jpg
END:VEVENT
BEGIN:VEVENT
DTSTART;TZID=Europe/Stockholm:20231115T080000
DTEND;TZID=Europe/Stockholm:20231116T120000
DTSTAMP:20260426T021549
CREATED:20221103T090523Z
LAST-MODIFIED:20221103T090523Z
UID:9191-1700035200-1700136000@home.climacheck.com
SUMMARY:ClimaCheck Level 2 Training - English
DESCRIPTION:This level 2 training is divided in two 4h sessions\, between 08-12 both days. \nTo receive more information or register to the training email: Training@ClimaCheck.com
URL:https://home.climacheck.com/event/climacheck-level-2-training-english-2/
CATEGORIES:Level 2 English
ATTACH;FMTTYPE=image/jpeg:https://home.climacheck.com/wp-content/uploads/2019/07/ClimaCheck_LogoWEB2019-1024x132-1.jpg
END:VEVENT
BEGIN:VEVENT
DTSTART;TZID=Europe/Stockholm:20231108T080000
DTEND;TZID=Europe/Stockholm:20231109T120000
DTSTAMP:20260426T021549
CREATED:20231018T080610Z
LAST-MODIFIED:20231018T080842Z
UID:9596-1699430400-1699531200@home.climacheck.com
SUMMARY:ClimaCheck Level 2 Training - English
DESCRIPTION:This level 2 training is divided in two 4h sessions\, between 08-12 both days. \nTo receive more information or register to the training email: Training@ClimaCheck.com
URL:https://home.climacheck.com/event/climacheck-level-2-training-english-6/
CATEGORIES:Level 2 English
ATTACH;FMTTYPE=image/jpeg:https://home.climacheck.com/wp-content/uploads/2019/07/ClimaCheck_LogoWEB2019-1024x132-1.jpg
END:VEVENT
BEGIN:VEVENT
DTSTART;TZID=Europe/Stockholm:20231019T090000
DTEND;TZID=Europe/Stockholm:20231019T160000
DTSTAMP:20260426T021549
CREATED:20221103T084520Z
LAST-MODIFIED:20221103T145835Z
UID:9180-1697706000-1697731200@home.climacheck.com
SUMMARY:ClimaCheck Level 1 Swedish
DESCRIPTION:Mer information om level ett träningen återfinns här:  ClimaCheck level 1 \nFör frågor eller registrering till träningen kontakta Training@ClimaCheck.com
URL:https://home.climacheck.com/event/climacheck-level-1-swedish-4/
CATEGORIES:Level 1 Swedish
ATTACH;FMTTYPE=image/jpeg:https://home.climacheck.com/wp-content/uploads/2019/07/ClimaCheck_LogoWEB2019-1024x132-1.jpg
END:VEVENT
BEGIN:VEVENT
DTSTART;TZID=Europe/Stockholm:20231012T140000
DTEND;TZID=Europe/Stockholm:20231012T160000
DTSTAMP:20260426T021549
CREATED:20221103T082939Z
LAST-MODIFIED:20221103T145851Z
UID:9165-1697119200-1697126400@home.climacheck.com
SUMMARY:ClimaCheck Training – Level 1 Workshop En.
DESCRIPTION:The workshop is a part of the level 1 online training. \nStart the training by emailing Training@ClimaCheck.com
URL:https://home.climacheck.com/event/climacheck-training-level-1-workshop-en-8/
CATEGORIES:Level 1 Workshop English
ATTACH;FMTTYPE=image/jpeg:https://home.climacheck.com/wp-content/uploads/2019/07/ClimaCheck_LogoWEB2019-1024x132-1.jpg
END:VEVENT
BEGIN:VEVENT
DTSTART;TZID=Europe/Stockholm:20230928T090000
DTEND;TZID=Europe/Stockholm:20230928T160000
DTSTAMP:20260426T021549
CREATED:20221103T095614Z
LAST-MODIFIED:20221103T095614Z
UID:9215-1695891600-1695916800@home.climacheck.com
SUMMARY:ClimaCheck Level 2 Training - Swedish
DESCRIPTION:Mer information om ClimaChecks level 2 träning finns här. \nMejla Training@ClimaCheck.com om du har frågor eller vill anmäla dig till träningen
URL:https://home.climacheck.com/event/climacheck-level-2-training-swedish-7/
CATEGORIES:Level 2 Swedish
ATTACH;FMTTYPE=image/jpeg:https://home.climacheck.com/wp-content/uploads/2019/07/ClimaCheck_LogoWEB2019-1024x132-1.jpg
END:VEVENT
BEGIN:VEVENT
DTSTART;TZID=Europe/Stockholm:20230920T130000
DTEND;TZID=Europe/Stockholm:20230921T170000
DTSTAMP:20260426T021549
CREATED:20221103T090705Z
LAST-MODIFIED:20221103T090726Z
UID:9195-1695214800-1695315600@home.climacheck.com
SUMMARY:ClimaCheck Level 2 Training - English
DESCRIPTION:This level 2 training is divided in two 4h sessions\, between 13-17 both days. \nTo receive more information or register to the training email: Training@ClimaCheck.com
URL:https://home.climacheck.com/event/climacheck-level-2-training-english-4/
CATEGORIES:Level 2 English
ATTACH;FMTTYPE=image/jpeg:https://home.climacheck.com/wp-content/uploads/2019/07/ClimaCheck_LogoWEB2019-1024x132-1.jpg
END:VEVENT
BEGIN:VEVENT
DTSTART;TZID=Europe/Stockholm:20230824T090000
DTEND;TZID=Europe/Stockholm:20230824T160000
DTSTAMP:20260426T021549
CREATED:20221103T084424Z
LAST-MODIFIED:20221103T145909Z
UID:9178-1692867600-1692892800@home.climacheck.com
SUMMARY:ClimaCheck Level 1 Swedish
DESCRIPTION:Mer information om level ett träningen återfinns här:  ClimaCheck level 1 \nFör frågor eller registrering till träningen kontakta Training@ClimaCheck.com
URL:https://home.climacheck.com/event/climacheck-level-1-swedish-3/
CATEGORIES:Level 1 Swedish
ATTACH;FMTTYPE=image/jpeg:https://home.climacheck.com/wp-content/uploads/2019/07/ClimaCheck_LogoWEB2019-1024x132-1.jpg
END:VEVENT
BEGIN:VEVENT
DTSTART;TZID=Europe/Stockholm:20230817T090000
DTEND;TZID=Europe/Stockholm:20230817T090000
DTSTAMP:20260426T021549
CREATED:20221103T082845Z
LAST-MODIFIED:20221103T145924Z
UID:9163-1692262800-1692262800@home.climacheck.com
SUMMARY:ClimaCheck Training – Level 1 Workshop En.
DESCRIPTION:The workshop is a part of the level 1 online training. \nStart the training by emailing Training@ClimaCheck.com
URL:https://home.climacheck.com/event/climacheck-training-level-1-workshop-en-7/
CATEGORIES:Level 1 Workshop English
ATTACH;FMTTYPE=image/jpeg:https://home.climacheck.com/wp-content/uploads/2019/07/ClimaCheck_LogoWEB2019-1024x132-1.jpg
END:VEVENT
BEGIN:VEVENT
DTSTART;TZID=Europe/Stockholm:20230608T090000
DTEND;TZID=Europe/Stockholm:20230608T160000
DTSTAMP:20260426T021549
CREATED:20221103T095531Z
LAST-MODIFIED:20221103T095531Z
UID:9213-1686214800-1686240000@home.climacheck.com
SUMMARY:ClimaCheck Level 2 Training - Swedish
DESCRIPTION:Mer information om ClimaChecks level 2 träning finns här. \nMejla Training@ClimaCheck.com om du har frågor eller vill anmäla dig till träningen
URL:https://home.climacheck.com/event/climacheck-level-2-training-swedish-6/
CATEGORIES:Level 2 Swedish
ATTACH;FMTTYPE=image/jpeg:https://home.climacheck.com/wp-content/uploads/2019/07/ClimaCheck_LogoWEB2019-1024x132-1.jpg
END:VEVENT
BEGIN:VEVENT
DTSTART;TZID=Europe/Stockholm:20230531T080000
DTEND;TZID=Europe/Stockholm:20230601T120000
DTSTAMP:20260426T021549
CREATED:20221103T090429Z
LAST-MODIFIED:20221103T094758Z
UID:9189-1685520000-1685620800@home.climacheck.com
SUMMARY:ClimaCheck Level 2 Training - English
DESCRIPTION:This level 2 training is divided in two 4h sessions\, between 08-12 both days. \nTo receive more information or register to the training email: Training@ClimaCheck.com
URL:https://home.climacheck.com/event/climacheck-level-2-training-english/
CATEGORIES:Level 2 English
ATTACH;FMTTYPE=image/jpeg:https://home.climacheck.com/wp-content/uploads/2019/07/ClimaCheck_LogoWEB2019-1024x132-1.jpg
END:VEVENT
BEGIN:VEVENT
DTSTART;TZID=Europe/Stockholm:20230525T090000
DTEND;TZID=Europe/Stockholm:20230525T160000
DTSTAMP:20260426T021549
CREATED:20221103T084338Z
LAST-MODIFIED:20221103T150001Z
UID:9176-1685005200-1685030400@home.climacheck.com
SUMMARY:ClimaCheck Level 1 Swedish
DESCRIPTION:Mer information om level ett träningen återfinns här:  ClimaCheck level 1 \nFör frågor eller registrering till träningen kontakta Training@ClimaCheck.com
URL:https://home.climacheck.com/event/climacheck-level-1-swedish-2/
CATEGORIES:Level 1 Swedish
ATTACH;FMTTYPE=image/jpeg:https://home.climacheck.com/wp-content/uploads/2019/07/ClimaCheck_LogoWEB2019-1024x132-1.jpg
END:VEVENT
BEGIN:VEVENT
DTSTART;TZID=Europe/Stockholm:20230511T140000
DTEND;TZID=Europe/Stockholm:20230511T160000
DTSTAMP:20260426T021549
CREATED:20221103T082751Z
LAST-MODIFIED:20221103T150017Z
UID:9161-1683813600-1683820800@home.climacheck.com
SUMMARY:ClimaCheck Training – Level 1 Workshop En.
DESCRIPTION:The workshop is a part of the level 1 online training. \nStart the training by emailing Training@ClimaCheck.com
URL:https://home.climacheck.com/event/climacheck-training-level-1-workshop-en-6/
CATEGORIES:Level 1 Workshop English
ATTACH;FMTTYPE=image/jpeg:https://home.climacheck.com/wp-content/uploads/2019/07/ClimaCheck_LogoWEB2019-1024x132-1.jpg
END:VEVENT
BEGIN:VEVENT
DTSTART;TZID=Europe/Stockholm:20230427T090000
DTEND;TZID=Europe/Stockholm:20230427T160000
DTSTAMP:20260426T021549
CREATED:20221103T095249Z
LAST-MODIFIED:20221103T095249Z
UID:9211-1682586000-1682611200@home.climacheck.com
SUMMARY:ClimaCheck Level 2 Training - Swedish
DESCRIPTION:Mer information om ClimaChecks level 2 träning finns här. \nMejla Training@ClimaCheck.com om du har frågor eller vill anmäla dig till träningen
URL:https://home.climacheck.com/event/climacheck-level-2-training-swedish-5/
CATEGORIES:Level 2 Swedish
ATTACH;FMTTYPE=image/jpeg:https://home.climacheck.com/wp-content/uploads/2019/07/ClimaCheck_LogoWEB2019-1024x132-1.jpg
END:VEVENT
BEGIN:VEVENT
DTSTART;TZID=Europe/Stockholm:20230420T080000
DTEND;TZID=Europe/Stockholm:20230421T170000
DTSTAMP:20260426T021549
CREATED:20221214T084802Z
LAST-MODIFIED:20221214T090400Z
UID:9258-1681977600-1682096400@home.climacheck.com
SUMMARY:ClimaCheck International Training 2023
DESCRIPTION:Welcome to ClimaCheck’s International Training 2023!\nThe energy crisis in europe creates many challenges that affects everyone. Compared to many solutions energy efficiency is available today and can be implemented fast.  Due to the large energy consumption of HVACR system (20%+ Globally) optimising these will help to reduce the energy crisis. ClimaCheck’s International Training 2023 will therefore be more important than ever and it will be held in Stockholm\, the 20-21 of April. \nWith new cooperation’s  and cutting edge projects this training will be an opportunity to share knowledge and experiences between experts from all over the world. During the two days training\, you will get insight in the use of ClimaCheck and the opportunities enabled for energy optimisation as well as predictive maintenance. \nIn the end of 2022 it was concluded that reducing the energy consumption with 5% will be mandatory\, this would also affect the electricity price. Taking HVACR system for granted is not an alternative anymore\, for organisations that are serious with sustainability. Therefore\, we will go through how to introduce predictive maintenance and energy optimisation in HVACR system. \nDepending on your experience you can do the level 1 or level 2 training (max 20 participants per level). \nRegister by emailing us at: Training@ClimaCheck.com (last day to register is 10th of march)\nIf you registered before the 20th of January 2023\, you get the early bird price. \nRead more here 
URL:https://home.climacheck.com/event/climacheck-international-training-2023/
CATEGORIES:Level 1 English,Level 2 English
ATTACH;FMTTYPE=image/webp:https://home.climacheck.com/wp-content/uploads/2024/03/post-placeholder.webp
END:VEVENT
BEGIN:VEVENT
DTSTART;TZID=Europe/Stockholm:20230419T080000
DTEND;TZID=Europe/Stockholm:20230420T120000
DTSTAMP:20260426T021549
CREATED:20221103T090615Z
LAST-MODIFIED:20221103T090615Z
UID:9193-1681891200-1681992000@home.climacheck.com
SUMMARY:ClimaCheck Level 2 Training - English
DESCRIPTION:This level 2 training is divided in two 4h sessions\, between 13-17 both days. \nTo receive more information or register to the training email: Training@ClimaCheck.com
URL:https://home.climacheck.com/event/climacheck-level-2-training-english-3/
CATEGORIES:Level 2 English
ATTACH;FMTTYPE=image/jpeg:https://home.climacheck.com/wp-content/uploads/2019/07/ClimaCheck_LogoWEB2019-1024x132-1.jpg
END:VEVENT
BEGIN:VEVENT
DTSTART;TZID=Europe/Stockholm:20230323T090000
DTEND;TZID=Europe/Stockholm:20230323T160000
DTSTAMP:20260426T021549
CREATED:20221103T084224Z
LAST-MODIFIED:20221103T150035Z
UID:9174-1679562000-1679587200@home.climacheck.com
SUMMARY:ClimaCheck Level 1 Swedish
DESCRIPTION:Mer information om level ett träningen återfinns här:  ClimaCheck level 1 \nFör frågor eller registrering till träningen kontakta Training@ClimaCheck.com
URL:https://home.climacheck.com/event/climacheck-level-1-swedish/
CATEGORIES:Level 1 Swedish
ATTACH;FMTTYPE=image/jpeg:https://home.climacheck.com/wp-content/uploads/2019/07/ClimaCheck_LogoWEB2019-1024x132-1.jpg
END:VEVENT
BEGIN:VEVENT
DTSTART;TZID=Europe/Stockholm:20230309T090000
DTEND;TZID=Europe/Stockholm:20230309T110000
DTSTAMP:20260426T021549
CREATED:20221103T082408Z
LAST-MODIFIED:20221103T150148Z
UID:9159-1678352400-1678359600@home.climacheck.com
SUMMARY:ClimaCheck Training – Level 1 Workshop En.
DESCRIPTION:The workshop is a part of the level 1 online training. \nStart the training by emailing Training@ClimaCheck.com
URL:https://home.climacheck.com/event/climacheck-training-level-1-workshop-en-5/
CATEGORIES:Level 1 Workshop English
ATTACH;FMTTYPE=image/jpeg:https://home.climacheck.com/wp-content/uploads/2019/07/ClimaCheck_LogoWEB2019-1024x132-1.jpg
END:VEVENT
BEGIN:VEVENT
DTSTART;TZID=Europe/Stockholm:20230223T090000
DTEND;TZID=Europe/Stockholm:20230223T160000
DTSTAMP:20260426T021549
CREATED:20221103T095153Z
LAST-MODIFIED:20221103T095153Z
UID:9209-1677142800-1677168000@home.climacheck.com
SUMMARY:ClimaCheck Level 2 Training - Swedish
DESCRIPTION:Mer information om ClimaChecks level 2 träning finns här. \nMejla Training@ClimaCheck.com om du har frågor eller vill anmäla dig till träningen
URL:https://home.climacheck.com/event/climacheck-level-2-training-swedish-4/
CATEGORIES:Level 2 Swedish
ATTACH;FMTTYPE=image/jpeg:https://home.climacheck.com/wp-content/uploads/2019/07/ClimaCheck_LogoWEB2019-1024x132-1.jpg
END:VEVENT
BEGIN:VEVENT
DTSTART;TZID=Europe/Stockholm:20230208T080000
DTEND;TZID=Europe/Stockholm:20230209T120000
DTSTAMP:20260426T021549
CREATED:20221103T085430Z
LAST-MODIFIED:20221103T095019Z
UID:9184-1675843200-1675944000@home.climacheck.com
SUMMARY:ClimaCheck Level 2 Training - English
DESCRIPTION:This level 2 training is divided in two 4h sessions\, between 08-12 both days. \nTo receive more information or register to the training email: Training@ClimaCheck.com
URL:https://home.climacheck.com/event/climacheck-training-level-2-english/
CATEGORIES:Level 2 English
ATTACH;FMTTYPE=image/jpeg:https://home.climacheck.com/wp-content/uploads/2019/07/ClimaCheck_LogoWEB2019-1024x132-1.jpg
END:VEVENT
BEGIN:VEVENT
DTSTART;TZID=Europe/Stockholm:20230126T090000
DTEND;TZID=Europe/Stockholm:20230126T160000
DTSTAMP:20260426T021549
CREATED:20221103T082245Z
LAST-MODIFIED:20221103T150156Z
UID:9157-1674723600-1674748800@home.climacheck.com
SUMMARY:ClimaCheck Level 1 Swedish
DESCRIPTION:Mer information om level ett träningen återfinns här:  ClimaCheck level 1 \nFör frågor eller registrering till träningen kontakta Training@ClimaCheck.com
URL:https://home.climacheck.com/event/climacheck-training-level-1-workshop-en-4/
CATEGORIES:Level 1 Swedish
ATTACH;FMTTYPE=image/jpeg:https://home.climacheck.com/wp-content/uploads/2019/07/ClimaCheck_LogoWEB2019-1024x132-1.jpg
END:VEVENT
BEGIN:VEVENT
DTSTART;TZID=Europe/Stockholm:20230119T140000
DTEND;TZID=Europe/Stockholm:20230119T160000
DTSTAMP:20260426T021549
CREATED:20220907T130853Z
LAST-MODIFIED:20220907T130946Z
UID:9055-1674136800-1674144000@home.climacheck.com
SUMMARY:ClimaCheck Training – Level 1 Workshop En
DESCRIPTION:The workshop is a part of the level 1 online training. \nStart the training by emailing Training@ClimaCheck.com
URL:https://home.climacheck.com/event/climacheck-training-level-1-workshop-en-3/
CATEGORIES:Level 1 Workshop English
ATTACH;FMTTYPE=image/jpeg:https://home.climacheck.com/wp-content/uploads/2019/07/ClimaCheck_LogoWEB2019-1024x132-1.jpg
END:VEVENT
BEGIN:VEVENT
DTSTART;TZID=Europe/Stockholm:20221123T080000
DTEND;TZID=Europe/Stockholm:20221124T120000
DTSTAMP:20260426T021549
CREATED:20221103T093705Z
LAST-MODIFIED:20221103T094559Z
UID:9207-1669190400-1669291200@home.climacheck.com
SUMMARY:ClimaCheck Level 2 Training - English
DESCRIPTION:This level 2 training is divided in two 4h sessions\, between 08-12 both days. \nTo receive more information or register to the training email: Training@ClimaCheck.com
URL:https://home.climacheck.com/event/climacheck-level-2-training-english-5/
CATEGORIES:Level 2 English
ATTACH;FMTTYPE=image/jpeg:https://home.climacheck.com/wp-content/uploads/2019/07/ClimaCheck_LogoWEB2019-1024x132-1.jpg
END:VEVENT
END:VCALENDAR