BEGIN:VCALENDAR
VERSION:2.0
PRODID:-//ClimaCheck - ECPv6.15.11//NONSGML v1.0//EN
CALSCALE:GREGORIAN
METHOD:PUBLISH
X-WR-CALNAME:ClimaCheck
X-ORIGINAL-URL:https://home.climacheck.com
X-WR-CALDESC:Events for ClimaCheck
REFRESH-INTERVAL;VALUE=DURATION:PT1H
X-Robots-Tag:noindex
X-PUBLISHED-TTL:PT1H
BEGIN:VTIMEZONE
TZID:Europe/Stockholm
BEGIN:DAYLIGHT
TZOFFSETFROM:+0100
TZOFFSETTO:+0200
TZNAME:CEST
DTSTART:20230326T010000
END:DAYLIGHT
BEGIN:STANDARD
TZOFFSETFROM:+0200
TZOFFSETTO:+0100
TZNAME:CET
DTSTART:20231029T010000
END:STANDARD
BEGIN:DAYLIGHT
TZOFFSETFROM:+0100
TZOFFSETTO:+0200
TZNAME:CEST
DTSTART:20240331T010000
END:DAYLIGHT
BEGIN:STANDARD
TZOFFSETFROM:+0200
TZOFFSETTO:+0100
TZNAME:CET
DTSTART:20241027T010000
END:STANDARD
BEGIN:DAYLIGHT
TZOFFSETFROM:+0100
TZOFFSETTO:+0200
TZNAME:CEST
DTSTART:20250330T010000
END:DAYLIGHT
BEGIN:STANDARD
TZOFFSETFROM:+0200
TZOFFSETTO:+0100
TZNAME:CET
DTSTART:20251026T010000
END:STANDARD
BEGIN:DAYLIGHT
TZOFFSETFROM:+0100
TZOFFSETTO:+0200
TZNAME:CEST
DTSTART:20260329T010000
END:DAYLIGHT
BEGIN:STANDARD
TZOFFSETFROM:+0200
TZOFFSETTO:+0100
TZNAME:CET
DTSTART:20261025T010000
END:STANDARD
END:VTIMEZONE
BEGIN:VEVENT
DTSTART;TZID=Europe/Stockholm:20241008T080000
DTEND;TZID=Europe/Stockholm:20241010T170000
DTSTAMP:20260425T152401
CREATED:20231219T093801Z
LAST-MODIFIED:20240119T123731Z
UID:9685-1728374400-1728579600@home.climacheck.com
SUMMARY:Chillventa 2024
DESCRIPTION:Specialists from the refrigeration\, AC & ventilation\, architects and building services planners meet at Chillventa\, the international exhibition for the Refrigeration – AC & Ventilation – Heat Pumps sector. \n  \nClimaCheck will be in Hall 9 / Booth Number 9-336
URL:https://home.climacheck.com/event/chillventa-2024/
LOCATION:NürnbergMesse GmbH\, Germany
ATTACH;FMTTYPE=image/svg+xml:https://home.climacheck.com/wp-content/uploads/2022/06/Chillventa-Header.svg
END:VEVENT
BEGIN:VEVENT
DTSTART;TZID=Europe/Stockholm:20241010T112000
DTEND;TZID=Europe/Stockholm:20241010T112000
DTSTAMP:20260425T152401
CREATED:20240912T074940Z
LAST-MODIFIED:20240926T073731Z
UID:10033-1728559200-1728559200@home.climacheck.com
SUMMARY:Machine Learning drives Automated Fault Detection and Diagnostics and predictive maintenance
DESCRIPTION:An opportunity to listen to Klas\, one of ClimaChecks founders and hear the absolute latest in performance analysis and predictive maintenance. During the presentation\, klas will share experiences of using Machine Learning (ML) for Automated Fault Detection and Diagnosis (AFDD) that reduce total cost of ownership and down-time. \nHe will also present how digital twins based on Machine Learning (ML) will make the Air Conditioning\, Refrigeration and Heat Pump systems more reliable and efficient. \nMore information\nDigital twins based on Machine Learning (ML) will change maintenance practices in the air conditioning\, refrigeration and Heat Pump industry. Our industry uses 20 % of the global electricity and pressure to reduce the carbon footprint and total cost of ownership is increasing. Experience shows that an average saving potential of 25 % is realistic without replacing equipment. \nDigital Twins are powerful tools for AFDD \nThe presentation highlights the potential and experience of using ML to increase accuracy and reduce engineering time for Automated Fault Detection and Diagnosis (AFDD). ML will also be used in BMS systems to reduce loads and optimise controls\, but focus is on AFDD. \nML will drive the paradigm shift to Predictive Maintenance (PdM) as it reduces time required and reduce false warnings. Competent staff to optimise hundreds of millions of systems\, without advanced automation\, will not be available. To collect and analyse performance data over varying operation conditions is cost-effective but rarely a part of contracts as savings cannot be guaranteed before baseline is established. The solution will not be to train hundreds of thousands of technicians to become analysts. Analyst competence will be focused to centers that generate workorders for large numbers of sites when AFDD raise “Early Warnings” for performance drift. \nPerformance monitoring with AFDD using ML models increase accuracy and decrease cost. Most sensors are standard in installations since many years. It is a question of specifying what data should be collected\, at what interval\, and ensure that data is made into actionable information. International Energy Agency (IEA)\, Annex 52\, compiled a comprehensive guideline for data collection for Ground Source systems that with slight adaptations is applicable for all systems. Emerging standards such as e.g. “Real Estate Core” establish good practice which streamline and decrease cost for secure data management. \nDigital twins presented are developed on component level – compressor\, condenser and evaporator as well as for all KPIs important for maintenance and in-direct leak detection. A database containing detailed field performance data from thousands of systems in all sectors has been used to train and verify ML models. Experience show that ML is extremely powerful to detect any “performance-drift” with higher accuracy and less engineering time than with traditional rule-based limits. \nMeet us at chillventa\nYou can visit us at Chillventa in Hall 9 / Booth Number 9-336. If you plan to visit\, contact us so we can book a slot to sit down!
URL:https://home.climacheck.com/event/machine-learning-drives-automated-fault-detection-and-diagnostics-and-predictive-maintenance/
LOCATION:NürnbergMesse GmbH\, Germany
ATTACH;FMTTYPE=image/jpeg:https://home.climacheck.com/wp-content/uploads/2022/08/Chillventa-Logo-RGB-72dpi.jpg
END:VEVENT
BEGIN:VEVENT
DTSTART;TZID=Europe/Stockholm:20251009T080000
DTEND;TZID=Europe/Stockholm:20251009T100000
DTSTAMP:20260425T152401
CREATED:20250925T073740Z
LAST-MODIFIED:20250925T073740Z
UID:10334-1759996800-1760004000@home.climacheck.com
SUMMARY:Level 1 – Workshop - "Early"
DESCRIPTION:Prerequisite:\nCompletion of the free ClimaCheck Level 1 Training. \nAccess the free level 1 training here: https://home.climacheck.com/training/climacheck-level-1-on-demand/ \nFocus: \nPractical use of ClimaCheck hardware and software as well as basic analysis of basic air conditioning and refrigeration systems. \nFor HVACR technicians and engineers with practical experience but limited experience of ClimaCheck analyses. \nContent: \n\nMeasuring & verification with ClimaCheck\nTraining in the use of ClimaCheck onsite (hard- and software)\nHow to validate and interpret results from measurements\nHow to create a performance report on standard systems\nA first introduction to ClimaCheck online\n\nOutcome:\nAfter the workshop\, participants can measure\, troubleshoot and analyse standard systems and compare performance with design\, specifications\, component/unit software and maintenance guidelines. \nThe workshop done online\, after registration you will get an teams invitation. \nCost is 99€ \nRegister here
URL:https://home.climacheck.com/event/level-1-workshop-early/
CATEGORIES:Level 1 Workshop English
ATTACH;FMTTYPE=image/webp:https://home.climacheck.com/wp-content/uploads/2024/03/post-placeholder.webp
END:VEVENT
BEGIN:VEVENT
DTSTART;TZID=Europe/Stockholm:20251009T110000
DTEND;TZID=Europe/Stockholm:20251009T130000
DTSTAMP:20260425T152401
CREATED:20250925T075106Z
LAST-MODIFIED:20250925T075106Z
UID:10344-1760007600-1760014800@home.climacheck.com
SUMMARY:Level 1 – Workshop och lunchwebinar
DESCRIPTION:Förkunskaper:\nGenomförd kostnadsfri ClimaCheck Level 1-utbildning\, återfinns här: https://home.climacheck.com/training/climacheck-level-1-on-demand/ \nFokus:\nPraktisk användning av ClimaCheck onsite och tillhörande mjukvara samt grundläggande analys av luftkonditionerings- och kylsystem. \nFör kyl- och värmepumpstekniker och ingenjörer med praktisk erfarenhet men begränsad erfarenhet av ClimaCheck-analyser. Kursen lämpar sig även för personer som jobbar med kylmaskiner och värmepumpar i fastigheter\, som vill fördjupa sin kunskap. \nInnehåll: \n\nMätning och verifiering med ClimaCheck\nTräning i användning av ClimaCheck onsite (hård- och mjukvara)\nHur man verifierar och tolkar resultat från mätningar\nHur man skapar en prestanda rapport på standardsystem\nEn första introduktion till ClimaCheck online\n\nResultat:\nEfter workshopen kan man som deltagare mäta\, felsöka och analysera standardsystem samt jämföra prestanda med design\, specifikationer\, komponent-/enhetsprogramvara och underhållsriktlinjer. \nGenomförande:\nWorkshopen hålls online. Efter registrering får du en Teams-inbjudan. \nKostnad: 995 sek \nRegistrera dig här.
URL:https://home.climacheck.com/event/level-1-workshop-och-lunchwebinar-2/
CATEGORIES:Level 1 Workshop English
ATTACH;FMTTYPE=image/webp:https://home.climacheck.com/wp-content/uploads/2024/03/post-placeholder.webp
END:VEVENT
BEGIN:VEVENT
DTSTART;TZID=Europe/Stockholm:20251009T150000
DTEND;TZID=Europe/Stockholm:20251009T170000
DTSTAMP:20260425T152401
CREATED:20250925T073900Z
LAST-MODIFIED:20250925T073900Z
UID:10336-1760022000-1760029200@home.climacheck.com
SUMMARY:Level 1 – Workshop - "Late"
DESCRIPTION:Prerequisite:\nCompletion of the free ClimaCheck Level 1 Training. \nAccess the free level 1 training here: https://home.climacheck.com/training/climacheck-level-1-on-demand/ \nFocus: \nPractical use of ClimaCheck hardware and software as well as basic analysis of basic air conditioning and refrigeration systems. \nFor HVACR technicians and engineers with practical experience but limited experience of ClimaCheck analyses. \nContent: \n\nMeasuring & verification with ClimaCheck\nTraining in the use of ClimaCheck onsite (hard- and software)\nHow to validate and interpret results from measurements\nHow to create a performance report on standard systems\nA first introduction to ClimaCheck online\n\nOutcome:\nAfter the workshop\, participants can measure\, troubleshoot and analyse standard systems and compare performance with design\, specifications\, component/unit software and maintenance guidelines. \nThe workshop done online\, after registration you will get an teams invitation. \nCost is 99€ \nRegister here
URL:https://home.climacheck.com/event/level-1-workshop-late/
CATEGORIES:Level 1 Workshop English
ATTACH;FMTTYPE=image/webp:https://home.climacheck.com/wp-content/uploads/2024/03/post-placeholder.webp
END:VEVENT
BEGIN:VEVENT
DTSTART;TZID=Europe/Stockholm:20251106T080000
DTEND;TZID=Europe/Stockholm:20251106T100000
DTSTAMP:20260425T152401
CREATED:20250925T074003Z
LAST-MODIFIED:20250925T074003Z
UID:10339-1762416000-1762423200@home.climacheck.com
SUMMARY:Level 1 – Workshop - "Early"
DESCRIPTION:Prerequisite:\nCompletion of the free ClimaCheck Level 1 Training. \nAccess the free level 1 training here: https://home.climacheck.com/training/climacheck-level-1-on-demand/ \nFocus: \nPractical use of ClimaCheck hardware and software as well as basic analysis of basic air conditioning and refrigeration systems. \nFor HVACR technicians and engineers with practical experience but limited experience of ClimaCheck analyses. \nContent: \n\nMeasuring & verification with ClimaCheck\nTraining in the use of ClimaCheck onsite (hard- and software)\nHow to validate and interpret results from measurements\nHow to create a performance report on standard systems\nA first introduction to ClimaCheck online\n\nOutcome:\nAfter the workshop\, participants can measure\, troubleshoot and analyse standard systems and compare performance with design\, specifications\, component/unit software and maintenance guidelines. \nThe workshop done online\, after registration you will get an teams invitation. \nCost is 99€ \nRegister here
URL:https://home.climacheck.com/event/level-1-workshop-early-2/
CATEGORIES:Level 1 Workshop English
ATTACH;FMTTYPE=image/webp:https://home.climacheck.com/wp-content/uploads/2024/03/post-placeholder.webp
END:VEVENT
BEGIN:VEVENT
DTSTART;TZID=Europe/Stockholm:20251106T110000
DTEND;TZID=Europe/Stockholm:20251106T130000
DTSTAMP:20260425T152401
CREATED:20250925T075032Z
LAST-MODIFIED:20250925T075032Z
UID:10342-1762426800-1762434000@home.climacheck.com
SUMMARY:Level 1 – Workshop och lunchwebinar
DESCRIPTION:Förkunskaper:\nGenomförd kostnadsfri ClimaCheck Level 1-utbildning\, återfinns här: https://home.climacheck.com/training/climacheck-level-1-on-demand/ \nFokus:\nPraktisk användning av ClimaCheck onsite och tillhörande mjukvara samt grundläggande analys av luftkonditionerings- och kylsystem. \nFör kyl- och värmepumpstekniker och ingenjörer med praktisk erfarenhet men begränsad erfarenhet av ClimaCheck-analyser. Kursen lämpar sig även för personer som jobbar med kylmaskiner och värmepumpar i fastigheter\, som vill fördjupa sin kunskap. \nInnehåll: \n\nMätning och verifiering med ClimaCheck\nTräning i användning av ClimaCheck onsite (hård- och mjukvara)\nHur man verifierar och tolkar resultat från mätningar\nHur man skapar en prestanda rapport på standardsystem\nEn första introduktion till ClimaCheck online\n\nResultat:\nEfter workshopen kan man som deltagare mäta\, felsöka och analysera standardsystem samt jämföra prestanda med design\, specifikationer\, komponent-/enhetsprogramvara och underhållsriktlinjer. \nGenomförande:\nWorkshopen hålls online. Efter registrering får du en Teams-inbjudan. \nKostnad: 995 sek \nRegistrera dig här.
URL:https://home.climacheck.com/event/level-1-workshop-och-lunchwebinar/
CATEGORIES:Level 1 Workshop English
ATTACH;FMTTYPE=image/webp:https://home.climacheck.com/wp-content/uploads/2024/03/post-placeholder.webp
END:VEVENT
BEGIN:VEVENT
DTSTART;TZID=Europe/Stockholm:20251106T150000
DTEND;TZID=Europe/Stockholm:20251106T170000
DTSTAMP:20260425T152401
CREATED:20250925T074034Z
LAST-MODIFIED:20250925T074034Z
UID:10338-1762441200-1762448400@home.climacheck.com
SUMMARY:Level 1 – Workshop - "Late"
DESCRIPTION:Prerequisite:\nCompletion of the free ClimaCheck Level 1 Training. \nAccess the free level 1 training here: https://home.climacheck.com/training/climacheck-level-1-on-demand/ \nFocus: \nPractical use of ClimaCheck hardware and software as well as basic analysis of basic air conditioning and refrigeration systems. \nFor HVACR technicians and engineers with practical experience but limited experience of ClimaCheck analyses. \nContent: \n\nMeasuring & verification with ClimaCheck\nTraining in the use of ClimaCheck onsite (hard- and software)\nHow to validate and interpret results from measurements\nHow to create a performance report on standard systems\nA first introduction to ClimaCheck online\n\nOutcome:\nAfter the workshop\, participants can measure\, troubleshoot and analyse standard systems and compare performance with design\, specifications\, component/unit software and maintenance guidelines. \nThe workshop done online\, after registration you will get an teams invitation. \nCost is 99€ \nRegister here
URL:https://home.climacheck.com/event/level-1-workshop-late-2/
CATEGORIES:Level 1 Workshop English
ATTACH;FMTTYPE=image/webp:https://home.climacheck.com/wp-content/uploads/2024/03/post-placeholder.webp
END:VEVENT
BEGIN:VEVENT
DTSTART;TZID=Europe/Stockholm:20251203T080000
DTEND;TZID=Europe/Stockholm:20251203T120000
DTSTAMP:20260425T152401
CREATED:20250925T075943Z
LAST-MODIFIED:20250925T080155Z
UID:10346-1764748800-1764763200@home.climacheck.com
SUMMARY:Level 2 – Advanced - Part 1 - Early
DESCRIPTION:Prerequisite:\nCompletion of Level 1 training and completed measurements with ClimaCheck online or ClimaCheck onsite. \nFocus: \nAdvanced use of ClimaCheck onsite and online for audits\, inspections\, troubleshooting\, Predictive Maintenance and performance optimisation. \nContent: \n\nDeeper analysis of ClimaCheck information\nApplication of ClimaCheck to more complex systems (e.g. with economiser and oil coolers)\nTroubleshooting\nOptimisation\nAdvanced reporting\nEarly warnings for Predictive Maintenance\n\nOutcome:\nAfter the training\, participants will gain advanced skills to analyse data from complex systems\, apply early warning methods\, and support the implementation of predictive maintenance. \nThe workshop is done online\, after registration you will get an teams invitation. \nCost is 199€ \nRegister here
URL:https://home.climacheck.com/event/level-2-advanced-part-1/
ATTACH;FMTTYPE=image/webp:https://home.climacheck.com/wp-content/uploads/2024/03/post-placeholder.webp
END:VEVENT
BEGIN:VEVENT
DTSTART;TZID=Europe/Stockholm:20251203T140000
DTEND;TZID=Europe/Stockholm:20251203T180000
DTSTAMP:20260425T152401
CREATED:20250925T080341Z
LAST-MODIFIED:20250925T114950Z
UID:10354-1764770400-1764784800@home.climacheck.com
SUMMARY:Level 2 – Advanced - Part 1 - Late
DESCRIPTION:Prerequisite:\nCompletion of Level 1 training and completed measurements with ClimaCheck online or ClimaCheck onsite. \nFocus: \nAdvanced use of ClimaCheck onsite and online for audits\, inspections\, troubleshooting\, Predictive Maintenance and performance optimisation. \nContent: \n\nDeeper analysis of ClimaCheck information\nApplication of ClimaCheck to more complex systems (e.g. with economiser and oil coolers)\nTroubleshooting\nOptimisation\nAdvanced reporting\nEarly warnings for Predictive Maintenance\n\nOutcome:\nAfter the training\, participants will gain advanced skills to analyse data from complex systems\, apply early warning methods\, and support the implementation of predictive maintenance. \nThe workshop is done online\, after registration you will get an teams invitation. \nCost is 199€ \nRegister here
URL:https://home.climacheck.com/event/level-2-advanced-part-1-late/
ATTACH;FMTTYPE=image/webp:https://home.climacheck.com/wp-content/uploads/2024/03/post-placeholder.webp
END:VEVENT
BEGIN:VEVENT
DTSTART;TZID=Europe/Stockholm:20251204T080000
DTEND;TZID=Europe/Stockholm:20251204T120000
DTSTAMP:20260425T152401
CREATED:20250925T080020Z
LAST-MODIFIED:20250925T114953Z
UID:10348-1764835200-1764849600@home.climacheck.com
SUMMARY:Level 2 – Advanced - Part 2 - Early
DESCRIPTION:Prerequisite:\nCompletion of Level 1 training and completed measurements with ClimaCheck online or ClimaCheck onsite. \nFocus: \nAdvanced use of ClimaCheck onsite and online for audits\, inspections\, troubleshooting\, Predictive Maintenance and performance optimisation. \nContent: \n\nDeeper analysis of ClimaCheck information\nApplication of ClimaCheck to more complex systems (e.g. with economiser and oil coolers)\nTroubleshooting\nOptimisation\nAdvanced reporting\nEarly warnings for Predictive Maintenance\n\nOutcome:\nAfter the training\, participants will gain advanced skills to analyse data from complex systems\, apply early warning methods\, and support the implementation of predictive maintenance. \nThe workshop is done online\, after registration you will get an teams invitation. \nCost is 199€ \nRegister here
URL:https://home.climacheck.com/event/level-2-advanced-part-2/
ATTACH;FMTTYPE=image/webp:https://home.climacheck.com/wp-content/uploads/2024/03/post-placeholder.webp
END:VEVENT
BEGIN:VEVENT
DTSTART;TZID=Europe/Stockholm:20251204T140000
DTEND;TZID=Europe/Stockholm:20251204T180000
DTSTAMP:20260425T152401
CREATED:20250925T080353Z
LAST-MODIFIED:20250925T080353Z
UID:10353-1764856800-1764871200@home.climacheck.com
SUMMARY:Level 2 – Advanced - Part 2 - Late
DESCRIPTION:Prerequisite:\nCompletion of Level 1 training and completed measurements with ClimaCheck online or ClimaCheck onsite. \nFocus: \nAdvanced use of ClimaCheck onsite and online for audits\, inspections\, troubleshooting\, Predictive Maintenance and performance optimisation. \nContent: \n\nDeeper analysis of ClimaCheck information\nApplication of ClimaCheck to more complex systems (e.g. with economiser and oil coolers)\nTroubleshooting\nOptimisation\nAdvanced reporting\nEarly warnings for Predictive Maintenance\n\nOutcome:\nAfter the training\, participants will gain advanced skills to analyse data from complex systems\, apply early warning methods\, and support the implementation of predictive maintenance. \nThe workshop is done online\, after registration you will get an teams invitation. \nCost is 199€ \nRegister here
URL:https://home.climacheck.com/event/level-2-advanced-part-2-late/
ATTACH;FMTTYPE=image/webp:https://home.climacheck.com/wp-content/uploads/2024/03/post-placeholder.webp
END:VEVENT
BEGIN:VEVENT
DTSTART;TZID=Europe/Stockholm:20251209T080000
DTEND;TZID=Europe/Stockholm:20251209T170000
DTSTAMP:20260425T152401
CREATED:20250925T081726Z
LAST-MODIFIED:20250925T114942Z
UID:10357-1765267200-1765299600@home.climacheck.com
SUMMARY:Level 2- Avancerad - Heldag
DESCRIPTION:Förkunskaper:Genomförd Level 1-utbildning samt utförda mätningar med ClimaCheck online eller ClimaCheck onsite. \nFokus:Avancerad användning av ClimaCheck onsite och online för analys\, prestandainspektioner\, felsökning\, Prediktivt Underhåll samt energioptimering. \nInnehåll: \n\n\nFördjupad analys av ClimaCheck-information \n\n\nTillämpning av ClimaCheck på mer komplexa system (t.ex. med ekonomiser och oljekylare) \n\n\nFelsökning \n\n\nOptimering \n\n\nAvancerad rapportering \n\n\nTidiga varningar för Prediktivt Underhåll \n\n\nResultat:Efter utbildningen kommer deltagarna att ha avancerade kunskaper för att analysera data från komplexa system\, använda metoder för tidiga varningar samt stödja implementeringen av Predictive Maintenance. \nPlats:Utbildningen hålls online och på vårt kontor. \nKostnad: 1 995 SEK lunch ingår för dom som är på plats \nRegistrera dig här.
URL:https://home.climacheck.com/event/level-2-avancerad-heldag/
ATTACH;FMTTYPE=image/webp:https://home.climacheck.com/wp-content/uploads/2024/03/post-placeholder.webp
END:VEVENT
END:VCALENDAR