BEGIN:VCALENDAR
VERSION:2.0
PRODID:-//ClimaCheck - ECPv6.15.11//NONSGML v1.0//EN
CALSCALE:GREGORIAN
METHOD:PUBLISH
X-ORIGINAL-URL:https://home.climacheck.com
X-WR-CALDESC:Events for ClimaCheck
REFRESH-INTERVAL;VALUE=DURATION:PT1H
X-Robots-Tag:noindex
X-PUBLISHED-TTL:PT1H
BEGIN:VTIMEZONE
TZID:Europe/Stockholm
BEGIN:DAYLIGHT
TZOFFSETFROM:+0100
TZOFFSETTO:+0200
TZNAME:CEST
DTSTART:20230326T010000
END:DAYLIGHT
BEGIN:STANDARD
TZOFFSETFROM:+0200
TZOFFSETTO:+0100
TZNAME:CET
DTSTART:20231029T010000
END:STANDARD
BEGIN:DAYLIGHT
TZOFFSETFROM:+0100
TZOFFSETTO:+0200
TZNAME:CEST
DTSTART:20240331T010000
END:DAYLIGHT
BEGIN:STANDARD
TZOFFSETFROM:+0200
TZOFFSETTO:+0100
TZNAME:CET
DTSTART:20241027T010000
END:STANDARD
BEGIN:DAYLIGHT
TZOFFSETFROM:+0100
TZOFFSETTO:+0200
TZNAME:CEST
DTSTART:20250330T010000
END:DAYLIGHT
BEGIN:STANDARD
TZOFFSETFROM:+0200
TZOFFSETTO:+0100
TZNAME:CET
DTSTART:20251026T010000
END:STANDARD
END:VTIMEZONE
BEGIN:VEVENT
DTSTART;TZID=Europe/Stockholm:20240220T080000
DTEND;TZID=Europe/Stockholm:20240222T170000
DTSTAMP:20260425T183328
CREATED:20231219T100809Z
LAST-MODIFIED:20231219T100809Z
UID:9687-1708416000-1708621200@home.climacheck.com
SUMMARY:E-World
DESCRIPTION:
URL:https://home.climacheck.com/event/e-world/
LOCATION:Essen\, Messepl. 1\, 45131\, Essen\, Germany
ATTACH;FMTTYPE=image/webp:https://home.climacheck.com/wp-content/uploads/2024/03/post-placeholder.webp
END:VEVENT
END:VCALENDAR